BEGIN:VCALENDAR
VERSION:2.0
PRODID:-//Compagnie des Oeillets - ECPv6.15.20//NONSGML v1.0//EN
CALSCALE:GREGORIAN
METHOD:PUBLISH
X-WR-CALNAME:Compagnie des Oeillets
X-ORIGINAL-URL:https://compagniedesoeillets.com
X-WR-CALDESC:Évènements pour Compagnie des Oeillets
REFRESH-INTERVAL;VALUE=DURATION:PT1H
X-Robots-Tag:noindex
X-PUBLISHED-TTL:PT1H
BEGIN:VTIMEZONE
TZID:Europe/Paris
BEGIN:DAYLIGHT
TZOFFSETFROM:+0100
TZOFFSETTO:+0200
TZNAME:CEST
DTSTART:20240331T010000
END:DAYLIGHT
BEGIN:STANDARD
TZOFFSETFROM:+0200
TZOFFSETTO:+0100
TZNAME:CET
DTSTART:20241027T010000
END:STANDARD
BEGIN:DAYLIGHT
TZOFFSETFROM:+0100
TZOFFSETTO:+0200
TZNAME:CEST
DTSTART:20250330T010000
END:DAYLIGHT
BEGIN:STANDARD
TZOFFSETFROM:+0200
TZOFFSETTO:+0100
TZNAME:CET
DTSTART:20251026T010000
END:STANDARD
BEGIN:DAYLIGHT
TZOFFSETFROM:+0100
TZOFFSETTO:+0200
TZNAME:CEST
DTSTART:20260329T010000
END:DAYLIGHT
BEGIN:STANDARD
TZOFFSETFROM:+0200
TZOFFSETTO:+0100
TZNAME:CET
DTSTART:20261025T010000
END:STANDARD
END:VTIMEZONE
BEGIN:VEVENT
DTSTART;TZID=Europe/Paris:20250108T193000
DTEND;TZID=Europe/Paris:20250108T223000
DTSTAMP:20260420T022338
CREATED:20250131T160838Z
LAST-MODIFIED:20250131T160907Z
UID:10000007-1736364600-1736375400@compagniedesoeillets.com
SUMMARY:Assemblée générale de la Compagnie des Oeillets qui fête cette année ses dix ans d'existence.
DESCRIPTION:Projection d’un florilège d’images anniversaire.
URL:https://compagniedesoeillets.com/evenement/assemblee-generale-de-la-compagnie-des-oeillets-qui-fete-cette-annee-ses-dix-ans-dexistence/
LOCATION:Le C33\, 33\, rue Raspail\, Ivry-sur-seine\, 94200\, France
ATTACH;FMTTYPE=image/png:https://compagniedesoeillets.com/wp-content/uploads/2024/05/cropped-logo-orange.png
ORGANIZER;CN="La Compagnie des Oeillets":MAILTO:compagniedesoeillets24@gmail.com
END:VEVENT
END:VCALENDAR