BEGIN:VCALENDAR
VERSION:2.0
PRODID:-//Compagnie des Oeillets - ECPv6.15.20//NONSGML v1.0//EN
CALSCALE:GREGORIAN
METHOD:PUBLISH
X-WR-CALNAME:Compagnie des Oeillets
X-ORIGINAL-URL:https://compagniedesoeillets.com
X-WR-CALDESC:Évènements pour Compagnie des Oeillets
REFRESH-INTERVAL;VALUE=DURATION:PT1H
X-Robots-Tag:noindex
X-PUBLISHED-TTL:PT1H
BEGIN:VTIMEZONE
TZID:Europe/Paris
BEGIN:DAYLIGHT
TZOFFSETFROM:+0100
TZOFFSETTO:+0200
TZNAME:CEST
DTSTART:20240331T010000
END:DAYLIGHT
BEGIN:STANDARD
TZOFFSETFROM:+0200
TZOFFSETTO:+0100
TZNAME:CET
DTSTART:20241027T010000
END:STANDARD
BEGIN:DAYLIGHT
TZOFFSETFROM:+0100
TZOFFSETTO:+0200
TZNAME:CEST
DTSTART:20250330T010000
END:DAYLIGHT
BEGIN:STANDARD
TZOFFSETFROM:+0200
TZOFFSETTO:+0100
TZNAME:CET
DTSTART:20251026T010000
END:STANDARD
BEGIN:DAYLIGHT
TZOFFSETFROM:+0100
TZOFFSETTO:+0200
TZNAME:CEST
DTSTART:20260329T010000
END:DAYLIGHT
BEGIN:STANDARD
TZOFFSETFROM:+0200
TZOFFSETTO:+0100
TZNAME:CET
DTSTART:20261025T010000
END:STANDARD
END:VTIMEZONE
BEGIN:VEVENT
DTSTART;TZID=Europe/Paris:20250125T190000
DTEND;TZID=Europe/Paris:20250125T223000
DTSTAMP:20260420T022509
CREATED:20250131T163838Z
LAST-MODIFIED:20250131T163906Z
UID:10000011-1737831600-1737844200@compagniedesoeillets.com
SUMMARY:Concert / 100 ans de musique brésilienne
DESCRIPTION:À travers le vaste répertoire brésilien\, Lanna Zita et Caroline Faber font découvrir de manière dynamique et élégante cette culture foisonnante\, qui ne cesse de s’enrichir depuis la fin du 19e siècle.
URL:https://compagniedesoeillets.com/evenement/concert-100-ans-de-musique-bresilienne/
LOCATION:Le C33\, 33\, rue Raspail\, Ivry-sur-seine\, 94200\, France
ATTACH;FMTTYPE=image/jpeg:https://compagniedesoeillets.com/wp-content/uploads/2025/01/20250125-Concert-musique-bresilienne_25_02.jpg
ORGANIZER;CN="La Compagnie des Oeillets":MAILTO:compagniedesoeillets24@gmail.com
END:VEVENT
END:VCALENDAR