BEGIN:VCALENDAR
VERSION:2.0
PRODID:-//Compagnie des Oeillets - ECPv6.15.20//NONSGML v1.0//EN
CALSCALE:GREGORIAN
METHOD:PUBLISH
X-WR-CALNAME:Compagnie des Oeillets
X-ORIGINAL-URL:https://compagniedesoeillets.com
X-WR-CALDESC:Évènements pour Compagnie des Oeillets
REFRESH-INTERVAL;VALUE=DURATION:PT1H
X-Robots-Tag:noindex
X-PUBLISHED-TTL:PT1H
BEGIN:VTIMEZONE
TZID:Europe/Paris
BEGIN:DAYLIGHT
TZOFFSETFROM:+0100
TZOFFSETTO:+0200
TZNAME:CEST
DTSTART:20240331T010000
END:DAYLIGHT
BEGIN:STANDARD
TZOFFSETFROM:+0200
TZOFFSETTO:+0100
TZNAME:CET
DTSTART:20241027T010000
END:STANDARD
BEGIN:DAYLIGHT
TZOFFSETFROM:+0100
TZOFFSETTO:+0200
TZNAME:CEST
DTSTART:20250330T010000
END:DAYLIGHT
BEGIN:STANDARD
TZOFFSETFROM:+0200
TZOFFSETTO:+0100
TZNAME:CET
DTSTART:20251026T010000
END:STANDARD
BEGIN:DAYLIGHT
TZOFFSETFROM:+0100
TZOFFSETTO:+0200
TZNAME:CEST
DTSTART:20260329T010000
END:DAYLIGHT
BEGIN:STANDARD
TZOFFSETFROM:+0200
TZOFFSETTO:+0100
TZNAME:CET
DTSTART:20261025T010000
END:STANDARD
END:VTIMEZONE
BEGIN:VEVENT
DTSTART;TZID=Europe/Paris:20250201T100000
DTEND;TZID=Europe/Paris:20250627T220000
DTSTAMP:20260419T171729
CREATED:20250131T161603Z
LAST-MODIFIED:20250628T153714Z
UID:10000010-1738404000-1751061600@compagniedesoeillets.com
SUMMARY:Festival MATUVU - Appel à candidatures
DESCRIPTION:MATUVU 2025_Appel à candidature et Règlement de participation    \nLe concours s’adresse aux artistes de toutes disciplines. Qu’ils peignent\, dansent\, sculptent\, écrivent\, répètent\, photographient\, chantent\, dessinent\, etc.\, il s’agit de voir les artistes exprimer leur vision de l’art\, expliciter leur démarche ou encore parler de création artistique au sens large.\nL’artiste peut se filmer lui-même au travail (façon selfie\, ou sur pied) ou être filmé. La vidéo ne doit pas dépasser 10 minutes et être au format 16/9. Elle peut être réalisée avec un téléphone portable ou une caméra.\nDate limite de candidature : 31 mai \n 
URL:https://compagniedesoeillets.com/evenement/festival-matuvu-appel-a-candidatures/
LOCATION:Le C33\, 33\, rue Raspail\, Ivry-sur-seine\, 94200\, France
ATTACH;FMTTYPE=image/jpeg:https://compagniedesoeillets.com/wp-content/uploads/2025/01/20250125-Presentation-Festival-MATUVU.jpg
ORGANIZER;CN="La Compagnie des Oeillets":MAILTO:compagniedesoeillets24@gmail.com
END:VEVENT
BEGIN:VEVENT
DTSTART;TZID=Europe/Paris:20250507T193000
DTEND;TZID=Europe/Paris:20250507T213000
DTSTAMP:20260419T171729
CREATED:20250215T141128Z
LAST-MODIFIED:20250427T154738Z
UID:10000018-1746646200-1746653400@compagniedesoeillets.com
SUMMARY:Inna Maaimura\, dessins\, poésie
DESCRIPTION:Mercredi des Œillets \nPour le plasticien Inna MAAÍMURA\, tous les matériaux sont source d’inspiration. Lui qui se dit « spécialiste de rien » traduit sa recherche artistique complexe et exigeante en dessins\, peintures\, installations\, poésies\, etc.\, le dénominateur commun à ses créations étant « la notion d’obscurité ». \nUn artiste intrigant donc à rencontrer mercredi 7 mai\, à 19 h 30 \nC33\, 33 rue Raspail\, 94200 Ivry/Seine \n  \n   
URL:https://compagniedesoeillets.com/evenement/inna-maaimura-dessins-poesie/
LOCATION:Le C33\, 33\, rue Raspail\, Ivry-sur-seine\, 94200\, France
CATEGORIES:Mercredi des oeillets
ATTACH;FMTTYPE=image/jpeg:https://compagniedesoeillets.com/wp-content/uploads/2025/02/20250507-Maaimura1.jpg
ORGANIZER;CN="La Compagnie des Oeillets":MAILTO:compagniedesoeillets24@gmail.com
END:VEVENT
BEGIN:VEVENT
DTSTART;TZID=Europe/Paris:20250518T180000
DTEND;TZID=Europe/Paris:20250518T200000
DTSTAMP:20260419T171729
CREATED:20250215T141248Z
LAST-MODIFIED:20250426T142701Z
UID:10000019-1747591200-1747598400@compagniedesoeillets.com
SUMMARY:Laure Morabito: Concert clavecin\, guitare et théorbe
DESCRIPTION:Programme : \nRépertoire solo et duo de pièces des XVIII°\, XX° et XXI°  siècles : Castaldi\, Bonilla\, Scarlatti\, Petrassi\, Lacroix\, Ponce\, Giordani\, Boccherini. \nClavecin : Laure Morabito \nGuitare et théorbe : Caroline Delume
URL:https://compagniedesoeillets.com/evenement/laure-morabito-concert-classique/
LOCATION:Le C33\, 33\, rue Raspail\, Ivry-sur-seine\, 94200\, France
CATEGORIES:Soirée & spectacle
ATTACH;FMTTYPE=image/jpeg:https://compagniedesoeillets.com/wp-content/uploads/2025/02/20250518-Concert-Laure-Morabito-.jpg
ORGANIZER;CN="La Compagnie des Oeillets":MAILTO:compagniedesoeillets24@gmail.com
END:VEVENT
END:VCALENDAR